BEGIN:VCALENDAR
VERSION:2.0
PRODID:-//Cyprus Society of Human Genetics (CSHG) - ECPv6.15.4//NONSGML v1.0//EN
CALSCALE:GREGORIAN
METHOD:PUBLISH
X-WR-CALNAME:Cyprus Society of Human Genetics (CSHG)
X-ORIGINAL-URL:https://cshg.org.cy
X-WR-CALDESC:Events for Cyprus Society of Human Genetics (CSHG)
REFRESH-INTERVAL;VALUE=DURATION:PT1H
X-Robots-Tag:noindex
X-PUBLISHED-TTL:PT1H
BEGIN:VTIMEZONE
TZID:UTC
BEGIN:STANDARD
TZOFFSETFROM:+0000
TZOFFSETTO:+0000
TZNAME:UTC
DTSTART:20230101T000000
END:STANDARD
END:VTIMEZONE
BEGIN:VTIMEZONE
TZID:Europe/Athens
BEGIN:DAYLIGHT
TZOFFSETFROM:+0200
TZOFFSETTO:+0300
TZNAME:EEST
DTSTART:20230326T010000
END:DAYLIGHT
BEGIN:STANDARD
TZOFFSETFROM:+0300
TZOFFSETTO:+0200
TZNAME:EET
DTSTART:20231029T010000
END:STANDARD
END:VTIMEZONE
BEGIN:VEVENT
DTSTART;VALUE=DATE:20251204
DTEND;VALUE=DATE:20251207
DTSTAMP:20260425T144439
CREATED:20250217T051006Z
LAST-MODIFIED:20250217T051102Z
UID:10000022-1764806400-1765065599@cshg.org.cy
SUMMARY:Clinical Genomics and NGS
DESCRIPTION:37th Course jointly organized by ESHG AND CEUB \nTarget Audience:\nThis course is for those young professionals in Clinical and Medical genetics who want to learn about Clinical Genomics in the era of NGS. The course is based on the experience established by the European School of Genetic Medicine (ESGM) since 1988 with its 29 yearly courses in Medical Genetics and more recently with its NGS courses\, which are now merged.\nStarting from the basic notions of medical genetics and bioinformatics covered during the first two days\, the course will offer a more specialized training in the following four days\, designed for young clinicians and clinical laboratory specialists (in training) and for PhD or postdoc trainee scientists.\nMorning plenary lectures are followed by afternoon workshops conducted by 1-2 Faculty with groups of 15-25 students\, for more in-depth discussion of the morning’s topics.\nBioinformatic workshops are taught using computers and databases. Clinically-oriented workshops will use an interactive discussion format. \nFees:\nThe Registration fee for the entire course (€980\,00) includes tuition\, course material\, all meals\, coffee breaks\, social dinner and transportation from Bologna to the course venue and back.\nThe shuttle buses will be scheduled on May 3rd with the following timetable: \nAccommodation:\nYou’ll be lodged at the Course Venue (or hotels nearby the course venue if necessary).\nThe rate for a single room occupancy in bed and breakfast is €49\,00/night.\nThe rate for a double room occupancy in bed and breakfast is € 39\,00/night/person. If you’d like to be lodged in a double room please specify in the field note of the registration form your roommate. If  she/he does not attend the course\, the payment for her/his staying should be done in advance by bank transfer. In this case please contact rpartisani@ceub.it\nIn order to arrange your accommodation please take note that the course starts on May 4th at 9.00 am and ends on May 9 at lunch time. \nESHG Fellowship application:\nA limited number of fellowships covering both registration fee and accommodation (in double room to be shared with another participant from Saturday to Friday\, 6 nights) will be sponsored by ESHG. Following the guidelines established by ESHG\, students from economically less favoured countries are strongly encouraged to apply for ESHG fellowship: see list here https://www.eshg.org/fileadmin/eshg/countries/Collective_Members_Country_List_from_01_01_2017.pdf \nHowever\, fellowships are not limited to these countries.\nApplicants for fellowship should submit their request together with CV\, motivation letter and a reference letter to rpartisani@ceub.it. Closing date for fellowship applications: February 28th\, 2025. A communication of acceptance (or non-acceptance) will be sent by mail within March 14th\, 2025. Applicants who will not receive the fellowship can enroll in the course after March 14th\, 2025. If you plan to attend the course even in case of non acceptance of the fellowship\, please point it out at the moment of your application\, in order to reserve you a place in the course. \nMaximum number of admitted participants: 85  \nPoster submission:\nAll participants are STRONGLY encouraged to present and bring a poster. All abstracts will be accepted. The usable surface on the poster board will be 90 cm width x 150 cm height (approx. 35 x 59 inches).\nDeadline for sending Abstracts for posters: April 14\, 2025.\nEach abstract should consist in principle of 1-2 typewritten pages including references (font: times new roman 11 with line-spacing 1\,5). Please send your abstract in word format to rpartisani@ceub.it \nView the flyer \nView the program \nIN ORDER TO REGISTER TO THE COURSE PLEASE CLICK ON “BOOK ON LINE” BELOW: \n \n\n  \n  \n 
URL:https://cshg.org.cy/event/clinical-genomics-and-ngs/
LOCATION:University Residential Center of Bertinoro
CATEGORIES:ESHG
END:VEVENT
BEGIN:VEVENT
DTSTART;VALUE=DATE:20251204
DTEND;VALUE=DATE:20251207
DTSTAMP:20260425T144439
CREATED:20250217T050002Z
LAST-MODIFIED:20250217T050002Z
UID:10000021-1764806400-1765065599@cshg.org.cy
SUMMARY:ESHRE - Reproductive aging: from genetic insights to emerging therapies
DESCRIPTION:The latest scientific findings in genomics\, stem cell research\, bioengineering and other disciplines will feature in this comprehensive workshop which explores the causes\, consequences\, and solutions for addressing the increasing global trend in reproductive aging. \n\nOrganising Secretariat\nESHRE Central Office\nBXL7 – Building 1\, Nijverheidslaan 3\, 1st floor\,\n1853 Strombeek-Bever\, Belgium\nE-mail: info@eshre.eu\n\n\nPracticalities\n\nThe official language of the course is English. ESHRE will apply for European CME credits (ECMEC®s). Participants can obtain a certificate of attendance after completing the workshop evaluation.\nParticipants are recommended to download the Workshop App that not only contains all event data but also allows you to view the presentations and follow the sessions. Participants will receive an e-mail 1 week before the start of the workshop with instructions. \n \n\n\n  \n  \n 
URL:https://cshg.org.cy/event/eshre-reproductive-aging-from-genetic-insights-to-emerging-therapies/
LOCATION:Frankfurt\, Germany\, Germany
CATEGORIES:ESHRE Events
ATTACH;FMTTYPE=image/jpeg:https://cshg.org.cy/wp-content/uploads/2025/02/Frankfurt_Web-800x400-1.jpg
END:VEVENT
BEGIN:VEVENT
DTSTART;VALUE=DATE:20251119
DTEND;VALUE=DATE:20251120
DTSTAMP:20260425T144439
CREATED:20251117T035105Z
LAST-MODIFIED:20251117T035105Z
UID:10000025-1763510400-1763596799@cshg.org.cy
SUMMARY:General Assembly & CSHG 2025-2027 Board Elections
DESCRIPTION:General Assembly & CSHG 2025-2027 Board Elections
URL:https://cshg.org.cy/event/general-assembly-cshg-2025-2027-board-elections/
LOCATION:The Cyprus Institute of Neurology & Genetics\, Amphitheatre
CATEGORIES:CSHG Events,CSHG Events
ORGANIZER;CN="Cyprus Society of Human Genetics":MAILTO:Contact@cshg.org.cy
END:VEVENT
BEGIN:VEVENT
DTSTART;VALUE=DATE:20251031
DTEND;VALUE=DATE:20251102
DTSTAMP:20260425T144439
CREATED:20250628T044447Z
LAST-MODIFIED:20251119T174620Z
UID:10000024-1761868800-1762041599@cshg.org.cy
SUMMARY:CSHG 10th International Conference
DESCRIPTION:Registration Fees \nPlease choose your ticket type and renew your CSHG membership during the registration process accordingly. Become a member of the CSHG and save on your conference registration fee! \n\n1-year employee membership for €30\n2-year employee membership for €50\n1-year student membership for €15\n2-year student membership for €25\nNon-members conference participation €40\n\n																														 \nImportant Dates\n\nOctober 7th 2025Abstract submission deadline\nOctober 10th 2025Selected Abstracts announcement\nOctober 24th 2025Conference Registration deadline\nOctober 30th 2025CSHG Membership renewal\n\nQuick Links\n\nAbstract Booklet\nConference Programme\nAbstract submission\nRegistration\n\nPhoto Gallery\n													 \nWelcome Address CSHG\, Marios Ioannides\, President of the Cyprus Society of Human Genetics\n													 \nWelcome Address\, Ministry of Health\, Ms Natasa Anastasiadou (representative)\n													 \nBest Oral Presentation Award presented to Ioannis Livanos (PhD candidate)\, Neurogenetics Department\, The Cyprus Institute of Neurology and Genetics\n													 \nBest Poster Presentation Award presented to Dr Nikoletta Y. Papaioannou\, Department of Molecular Genetics Thalassemia\, The Cyprus Institute of Neurology & Genetics\, Nicosia\, Cyprus\n													 \nThe Genome of Europe: Towards using Genetic Information in Health Care and Prevention\, Prof André Uitterlinden\, Erasmus University Medical Center\n													 \nDriving the multiomics revolution\, the latest innovations from illumina\, Illumina representative\, Scientronics Ltd (distributor)\n													 \nRapid NGS testing in medical research\, Thermo Scientific Representative\, C.Georgiou Lab Supplies (distributor)\n													 \nNanopore sequencing: Novelty without compromise\, Oxford Nanopore\, Elta90MGR (distributor)\n													 \nAI-Driven Molecular Prescreening in Digital Pathology: From Morphology to Molecular Signatures\, Prof Dr Med Andreas Mamilos\, German Medical Institute\n													 \nMapping the Breakome in BRCA1/2 Mutation Carriers Reveals Early DNA Damage Landscapes in Breast Oncogenesis\, Prof Rami Aqeilan\, Cyprus Cancer Research Institute\n													 \nCancer and adaptation: What is the evidence? Prof Konstantinos Voskarides\, University of Nicosia\n													 \nFrom basic research to pre-clinical studies\, a 25-year journey Prof Constantinos Deltas\, biobank.cy Center of Excellence\, University of Cyprus\n													 \nThe CYPROME Genomics Platform: A Framework for Precision Medicine in Cyprus\, Dr Apostolos Malatras\, biobank.cy Center of Excellence\, University of Cyprus\n													 \nTreatment with 4-phenylbutyrate improves the kidney phenotype in a mouse model of Alport syndrome with a pathogenic variant in Col4a3. Dr Christoforos Odiatis\, biobank.cy Center of Excellence\, University of Cyprus\n													 \nA digital kidney tubule twin for ADTKD-MUC1: Bridging multi-omics and mechanistic translation Dr Andrea Kakouri\, biobank.cy Center of Excellence\, University of Cyprus\n													 \nAdvanced Therapies for Genetic Blood Disorders Dr Panayiota Papassava\, The Cyprus Institute of Neurology and Genetics\n													 \nEmerging Therapeutic Approaches for Myotonic Dystrophy Type 1 Dr Andrie Koutsoulidou\, The Cyprus Institute of Neurology and Genetics\n													 \nGene therapies for rare neuromuscular disorders Dr Kleopas Kleopa\, The Cyprus Institute of Neurology and Genetics\n													 \nBioinformatics Insights into Network Roadmaps Linking EBV to Multiple Sclerosis Dr George Spyrou\, The Cyprus Institute of Neurology and Genetics\n													 \nA synergistic approach for modulating the tumor microenvironment to improve therapeutic outcomes in cancer\, Dr Fotios Mpekris\, The Cyprus Institute of Neurology and Genetics\n													 \nBreast cancer risk prediction Dr Kyriaki Michailidou\, The Cyprus Institute of Neurology and Genetics\n													 \nMolecular Pathways Driving the Transition from Dormancy to Colonization in Metastatic Breast Cancer\, Dr Christiana Neophytou\, European University Cyprus\n													 \nLiquid Biopsy-Guided Therapy Selection; Insights into Clinical Application in Cancer Dr Chrysa Soteriou\, Medicover Genetics\n													 \nPrevalence and inheritance of susceptibility loci with incomplete penetrance and variable expressivity detected by prenatal and postnatal microarray testing\, Dr Vasiliki Chini\, Medicover Genetics\n													 \nPreimplantation Genetic Testing for Monogenic Disorders (PGT-M): Current Practices and Emerging Developments\, Dr Thesallia Papasavva\, The Cyprus Institute of Neurology and Genetics\n													 \nRefining Embryo Selection: Is Preimplantation Genetic Testing (PGT) enough? Ms Nicole Salameh\, The Cyprus Institute of Neurology and Genetics\n													 \nOptical genome mapping offers precise cytogenomic analysis and reproductive guidance for families with cryptic or complex chromosomal rearrangements Dr Constantia Aristidou\, The Cyprus Institute of Neurology and Genetics\n													 \nImportance of clinical interpretation in the era of massive genomic data\, Dr Sophia Ourani\, Makarios III Hospital\n													 \nCSHG Board 2023-2025. From left to right: Dr Styliana Philippou\, Dr Michaella Georgiadou\, Dr Kyriaki Michailidou\, Dr Marios Ioannides\, Dr Skevi Kyriakou\, Mr Panayiotis Myrianthopoulos and Dr Gregory Papagregoriou
URL:https://cshg.org.cy/event/cshg-10th-international-conference/
LOCATION:Shakolas Educational Centre for Clinical Medicine\, Cyprus
CATEGORIES:CSHG Events,CSHG Events
ATTACH;FMTTYPE=image/png:https://cshg.org.cy/wp-content/uploads/2025/06/10th-CSHG_save-the-date-2.png
ORGANIZER;CN="Cyprus Society of Human Genetics":MAILTO:Contact@cshg.org.cy
END:VEVENT
BEGIN:VEVENT
DTSTART;TZID=UTC:20250629T080000
DTEND;TZID=UTC:20250702T170000
DTSTAMP:20260425T144439
CREATED:20240529T095306Z
LAST-MODIFIED:20240529T095306Z
UID:10000017-1751184000-1751475600@cshg.org.cy
SUMMARY:2025 Annual Meeting
DESCRIPTION:ESHRE’s 41st Annual Meeting will take place from 29 June to 2 July 2025 in Paris\, France
URL:https://cshg.org.cy/event/2025-annual-meeting/
LOCATION:Paris (France)\, Paris\, France
CATEGORIES:ESHRE Events
ATTACH;FMTTYPE=image/png:https://cshg.org.cy/wp-content/uploads/2024/05/ESHRE2025_Save_the_date.png
END:VEVENT
BEGIN:VEVENT
DTSTART;VALUE=DATE:20250524
DTEND;VALUE=DATE:20250528
DTSTAMP:20260425T144439
CREATED:20250113T172409Z
LAST-MODIFIED:20250113T172409Z
UID:10000020-1748044800-1748390399@cshg.org.cy
SUMMARY:ESHG 2025 Conference
DESCRIPTION:Save the date for the next European Human Genetics Conference that will be held in Milan\, Italy on 24-27 May 2025. \nFor more information\, please visit https://2025.eshg.org/ \n 
URL:https://cshg.org.cy/event/eshg-2025-conference/
CATEGORIES:ESHG
ATTACH;FMTTYPE=image/png:https://cshg.org.cy/wp-content/uploads/2025/01/eshg.png
END:VEVENT
BEGIN:VEVENT
DTSTART;TZID=UTC:20250315T090000
DTEND;TZID=UTC:20250317T133000
DTSTAMP:20260425T144439
CREATED:20250221T054549Z
LAST-MODIFIED:20250221T054714Z
UID:10000023-1742029200-1742218200@cshg.org.cy
SUMMARY:Ημερίδα Το παιδί και ο έφηβος με σπάνιο γενετικό νόσημα στη Κύπρο. Παροχές\, προκλήσεις\, όραμα
DESCRIPTION:  \n \n\n  \n  \n 
URL:https://cshg.org.cy/event/%ce%b7%ce%bc%ce%b5%cf%81%ce%af%ce%b4%ce%b1-%cf%84%ce%bf-%cf%80%ce%b1%ce%b9%ce%b4%ce%af-%ce%ba%ce%b1%ce%b9-%ce%bf-%ce%ad%cf%86%ce%b7%ce%b2%ce%bf%cf%82-%ce%bc%ce%b5-%cf%83%cf%80%ce%ac%ce%bd%ce%b9%ce%bf/
LOCATION:Κεντρικα Γραφεία ΑΗΚ\, Λευκωσία\, Cyprus
CATEGORIES:CSHG Events
ATTACH;FMTTYPE=image/jpeg:https://cshg.org.cy/wp-content/uploads/2025/02/ΙΝΤ-079-Πρόσκληση.jpg
END:VEVENT
BEGIN:VEVENT
DTSTART;TZID=UTC:20250313T080000
DTEND;TZID=UTC:20250315T170000
DTSTAMP:20260425T144439
CREATED:20240529T094628Z
LAST-MODIFIED:20240529T094647Z
UID:10000015-1741852800-1742058000@cshg.org.cy
SUMMARY:The Best of ASRM and ESHRE
DESCRIPTION:Save the date for the next joint meeting of the American Society for Reproductive Medicine and the European Society of Human Reproduction and Embryology that will be held in Lisbon (Portugal) on 13-15 March 2025
URL:https://cshg.org.cy/event/the-best-of-asrm-and-eshre/
LOCATION:Lisbon (Portugal)\, Lisbon\, Portugal
CATEGORIES:ESHRE Events
ATTACH;FMTTYPE=image/png:https://cshg.org.cy/wp-content/uploads/2024/05/Best-of-2025_Web-850x315-1.png
END:VEVENT
BEGIN:VEVENT
DTSTART;TZID=UTC:20241207T090000
DTEND;TZID=UTC:20241207T160000
DTSTAMP:20260425T144439
CREATED:20240307T043101Z
LAST-MODIFIED:20251117T040120Z
UID:10000019-1733562000-1733587200@cshg.org.cy
SUMMARY:CSHG Workshop: Patient’s Journey from Pre-Conception to Neonatal Care
DESCRIPTION:Dr. Marios Ioannides\, President of CSHG\, opened the event with a welcome address.\n\n		\n		\n			\n		\n\n		\n		\n\n			\n				\n					\n				\n			\n\n			\n				\n					\n				\n			\n\n			\n				Image				1				of				8
URL:https://cshg.org.cy/event/cshg-workshop-patients-journey-from-pre-conception-to-neonatal-care/
LOCATION:Shakolas Educational Centre for Clinical Medicine\, Cyprus
CATEGORIES:CSHG Events
ATTACH;FMTTYPE=image/jpeg:https://cshg.org.cy/wp-content/uploads/2024/11/CSHG-2024-Web-Banner-241126.jpg
ORGANIZER;CN="Cyprus Society of Human Genetics":MAILTO:Contact@cshg.org.cy
END:VEVENT
BEGIN:VEVENT
DTSTART;TZID=UTC:20240913T080000
DTEND;TZID=UTC:20240915T170000
DTSTAMP:20260425T144439
CREATED:20240529T094937Z
LAST-MODIFIED:20240529T094937Z
UID:10000016-1726214400-1726419600@cshg.org.cy
SUMMARY:Fusion 2024
DESCRIPTION:The first in-person joint conference of ESHRE\, IFS & ISAR on Reproductive Medicine and ART will be held from 13 to 15 September 2024 in Jaipur (India). The early registration fee deadline is 15 April\, abstracts can be submitted by 15 July.
URL:https://cshg.org.cy/event/fusion-2024/
LOCATION:Jaipur (India)\, Jaipur\, India
CATEGORIES:ESHRE Events
ATTACH;FMTTYPE=image/jpeg:https://cshg.org.cy/wp-content/uploads/2024/05/Fusion24_Banner-850x315-02.jpg
END:VEVENT
BEGIN:VEVENT
DTSTART;TZID=UTC:20240913T000000
DTEND;TZID=UTC:20240917T000000
DTSTAMP:20260425T144439
CREATED:20240529T083630Z
LAST-MODIFIED:20240529T084117Z
UID:10000013-1726185600-1726531200@cshg.org.cy
SUMMARY:ESMO Congress 2024
DESCRIPTION:The ESMO Congress is a globally influential oncology platform for clinicians\, researchers\, patient advocates\, journalists and healthcare industry representatives from all over the world.\nESMO 2024 will disseminate the latest cutting-edge data\, provide high quality education and excellent networking opportunities for oncologists and other stakeholders from all around the world.\nThe innovative\, LIVE Plus Congress format will offer participants the option to attend in person\, in Barcelona or online\, through the Virtual Congress Platform\, from 13-17 September 2024. \nSee you there!
URL:https://cshg.org.cy/event/esmo-congress-2024/
LOCATION:Barcelona\, Spain\, Barcelona\, Spain
CATEGORIES:ESMO Events
ATTACH;FMTTYPE=image/jpeg:https://cshg.org.cy/wp-content/uploads/2024/05/esmo-congress-2024.jpg
END:VEVENT
BEGIN:VEVENT
DTSTART;TZID=UTC:20240707T080000
DTEND;TZID=UTC:20240710T170000
DTSTAMP:20260425T144439
CREATED:20240529T095549Z
LAST-MODIFIED:20240529T095549Z
UID:10000018-1720339200-1720630800@cshg.org.cy
SUMMARY:2024 Annual Meeting
DESCRIPTION:The 40th Annual Meeting will be held from 7 to 10 July 2024 in Amsterdam\, The Netherlands
URL:https://cshg.org.cy/event/2024-annual-meeting/
LOCATION:Amsterdam (The Netherlands)\, Amsterdam\, Netherlands
CATEGORIES:ESHRE Events
ATTACH;FMTTYPE=image/jpeg:https://cshg.org.cy/wp-content/uploads/2024/05/E24_Save-the-date_Web.jpg
END:VEVENT
BEGIN:VEVENT
DTSTART;TZID=UTC:20240601T083000
DTEND;TZID=UTC:20240604T203000
DTSTAMP:20260425T144439
CREATED:20240529T093909Z
LAST-MODIFIED:20240529T093909Z
UID:10000014-1717230600-1717533000@cshg.org.cy
SUMMARY:Programme at a Glance
DESCRIPTION:
URL:https://cshg.org.cy/event/programme-at-a-glance/
CATEGORIES:CSHG Events
ATTACH;FMTTYPE=image/png:https://cshg.org.cy/wp-content/uploads/2022/11/ESHG-Logo-150px_02_94c0c55517.png
END:VEVENT
BEGIN:VEVENT
DTSTART;VALUE=DATE:20240327
DTEND;VALUE=DATE:20240328
DTSTAMP:20260425T144439
CREATED:20240327T035125Z
LAST-MODIFIED:20251119T172330Z
UID:10000026-1711497600-1711583999@cshg.org.cy
SUMMARY:Behind the Scenes: Moving CMT1A gene therapy form the bench to the clinic
DESCRIPTION:
URL:https://cshg.org.cy/event/general-assembly-cshg-2025-2027-board-elections-2/
LOCATION:Moondog’s Bar and Grill\, Nicosia\, Cyprus
CATEGORIES:CSHG Events,CSHG Events
ORGANIZER;CN="Cyprus Society of Human Genetics":MAILTO:Contact@cshg.org.cy
END:VEVENT
BEGIN:VEVENT
DTSTART;TZID=Europe/Athens:20230109T090000
DTEND;TZID=Europe/Athens:20230109T111500
DTSTAMP:20260425T144439
CREATED:20230401T043434Z
LAST-MODIFIED:20230401T045847Z
UID:10000012-1673254800-1673262900@cshg.org.cy
SUMMARY:βThal-GT4U Information Day
DESCRIPTION:Personalised Gene Therapy for β-Thalassaemia\nProject: EXCELLENCE/1216/92 (Research and Innovation Foundation of Cyprus)\nMonday 9th January 2023\n\nJoin us in meeting room 317 at the CING or on Zoom here: https://zoom.us/j/3820891216 \nRSVP by 6th January here: https://forms.gle/jFjDK3FEKaUHJMKFA \nThis work was co-funded by the European Regional Development Fund and the Republic of Cyprus through the Research and Innovation Foundation.
URL:https://cshg.org.cy/event/%ce%b2thal-gt4u-information-day/
LOCATION:The Cyprus Institute of Neurology and Genetics\, 6 International Airport Ave.\, Ayios Dhometios\, Nicosia\, 2370\, Cyprus
END:VEVENT
BEGIN:VEVENT
DTSTART;VALUE=DATE:20230101
DTEND;VALUE=DATE:20230401
DTSTAMP:20260425T144439
CREATED:20230118T164759Z
LAST-MODIFIED:20230317T051002Z
UID:10000011-1672560000-1680282000@cshg.org.cy
SUMMARY:CSHG 9th International Conference
DESCRIPTION:Our 9th International Conference of the CSHG will be held on the 17th & 18th of March in the spectacular Learning Resource Center Stelios Ioannou at the University of Cyprus New Campus in Nicosia. This conference will give the Cyprus Human Geneticists Community the opportunity to meet with other scientists from Cyprus and abroad\, present their data and to discuss recent advances in the field. \nHere is our abstract book and programme\, including invited local and foreign guest speakers\, and selected oral abstracts:  \n  \n \nSubmission of conference abstracts is now closed. If you are presenting author of a submitted abstract\, make sure you register for the conference before 1st March for inclusion of your abstract in the conference programme. \nRegister for our conference and book your dinner participation below. Early-bird registration before 1st March is free for all participants with valid CSHG membership. After that deadline a €20 surcharge is applied to all ticket prices. \n  \n \n  \nThis event was co-funded by the EEA and Norway Grants 2014-2021 through bilateral activity funds and the project “New Infrastructure for the Diagnosis and Therapy of Patients”. \n\n\n\nPlatinum Sponsors\n\n \n\n\n\n\n\n\n\nGold Sponsors\n\n \n\n \n\n\n\n\n  \nEvent Tickets\nRegistration free before 1st March for valid CSHG members!
URL:https://cshg.org.cy/event/cshg-9th-international-conference/
LOCATION:Learning Resource Center Stelios Ioannou at the University of Cyprus New Campus in Nicosia\, University Avenue 1\, Aglantzia\, Cyprus\, Nicosia\, Nicosia\, 2109
CATEGORIES:CSHG Events,CSHG Events
ATTACH;FMTTYPE=image/png:https://cshg.org.cy/wp-content/uploads/2023/01/Poster_Bitmap_925x625.png
ORGANIZER;CN="Cyprus Society of Human Genetics":MAILTO:Contact@cshg.org.cy
END:VEVENT
END:VCALENDAR